BEGIN:VCALENDAR
VERSION:2.0
PRODID:-//Nearby Nature - ECPv6.15.17.1//NONSGML v1.0//EN
CALSCALE:GREGORIAN
METHOD:PUBLISH
X-ORIGINAL-URL:https://www.nearbynature.org
X-WR-CALDESC:Events for Nearby Nature
REFRESH-INTERVAL;VALUE=DURATION:PT1H
X-Robots-Tag:noindex
X-PUBLISHED-TTL:PT1H
BEGIN:VTIMEZONE
TZID:America/Los_Angeles
BEGIN:DAYLIGHT
TZOFFSETFROM:-0800
TZOFFSETTO:-0700
TZNAME:PDT
DTSTART:20240310T100000
END:DAYLIGHT
BEGIN:STANDARD
TZOFFSETFROM:-0700
TZOFFSETTO:-0800
TZNAME:PST
DTSTART:20241103T090000
END:STANDARD
BEGIN:DAYLIGHT
TZOFFSETFROM:-0800
TZOFFSETTO:-0700
TZNAME:PDT
DTSTART:20250309T100000
END:DAYLIGHT
BEGIN:STANDARD
TZOFFSETFROM:-0700
TZOFFSETTO:-0800
TZNAME:PST
DTSTART:20251102T090000
END:STANDARD
BEGIN:DAYLIGHT
TZOFFSETFROM:-0800
TZOFFSETTO:-0700
TZNAME:PDT
DTSTART:20260308T100000
END:DAYLIGHT
BEGIN:STANDARD
TZOFFSETFROM:-0700
TZOFFSETTO:-0800
TZNAME:PST
DTSTART:20261101T090000
END:STANDARD
END:VTIMEZONE
BEGIN:VEVENT
DTSTART;TZID=America/Los_Angeles:20251115T093000
DTEND;TZID=America/Los_Angeles:20251115T110000
DTSTAMP:20260414T121138
CREATED:20251031T213528Z
LAST-MODIFIED:20251031T220702Z
UID:16168-1763199000-1763204400@www.nearbynature.org
SUMMARY:Community Science Investigators: Feederwatch Kickoff
DESCRIPTION:Join us for a Community Science Investigation! This month we will learn about backyard birds as we document bird feeder activity in the Learnscape. Designed for adult (and mature youth with an adult) participants. If you have a smartphone or a camera\, bring one to take pictures. Smartphone users please load the iNaturalist\, Merlin\, and Project Feederwatch apps onto your phone if possible. We will have some devices to use during the session or good old paper and pencil if that is more comfortable. \nMembers and Volunteers FREE\, non-members $10 Pre-register online. Meet outside Nearby Nature’s Yurt in Alton Baker Park.
URL:https://www.nearbynature.org/events/community-science-investigators-feederwatch-kickoff
LOCATION:Nearby Nature\, 622 Day Island Rd\, Eugene\, OR\, 97401\, United States
CATEGORIES:Community Science Programs,Volunteering
ATTACH;FMTTYPE=image/jpeg:https://www.nearbynature.org/wp-content/uploads/20091123_Alton-Baker_022.jpg
END:VEVENT
END:VCALENDAR